BEGIN:VCALENDAR
VERSION:2.0
PRODID:-//Ski-Club Oberlengsfeld e. V. - ECPv6.15.14//NONSGML v1.0//EN
CALSCALE:GREGORIAN
METHOD:PUBLISH
X-WR-CALNAME:Ski-Club Oberlengsfeld e. V.
X-ORIGINAL-URL:https://www.skiclub-oberlengsfeld.de
X-WR-CALDESC:Veranstaltungen für Ski-Club Oberlengsfeld e. V.
REFRESH-INTERVAL;VALUE=DURATION:PT1H
X-Robots-Tag:noindex
X-PUBLISHED-TTL:PT1H
BEGIN:VTIMEZONE
TZID:Europe/Berlin
BEGIN:DAYLIGHT
TZOFFSETFROM:+0100
TZOFFSETTO:+0200
TZNAME:CEST
DTSTART:20250330T010000
END:DAYLIGHT
BEGIN:STANDARD
TZOFFSETFROM:+0200
TZOFFSETTO:+0100
TZNAME:CET
DTSTART:20251026T010000
END:STANDARD
BEGIN:DAYLIGHT
TZOFFSETFROM:+0100
TZOFFSETTO:+0200
TZNAME:CEST
DTSTART:20260329T010000
END:DAYLIGHT
BEGIN:STANDARD
TZOFFSETFROM:+0200
TZOFFSETTO:+0100
TZNAME:CET
DTSTART:20261025T010000
END:STANDARD
BEGIN:DAYLIGHT
TZOFFSETFROM:+0100
TZOFFSETTO:+0200
TZNAME:CEST
DTSTART:20270328T010000
END:DAYLIGHT
BEGIN:STANDARD
TZOFFSETFROM:+0200
TZOFFSETTO:+0100
TZNAME:CET
DTSTART:20271031T010000
END:STANDARD
END:VTIMEZONE
BEGIN:VEVENT
DTSTART;VALUE=DATE:20260206
DTEND;VALUE=DATE:20260210
DTSTAMP:20260421T203020
CREATED:20250503T220027Z
LAST-MODIFIED:20251026T093801Z
UID:4428-1770336000-1770681599@www.skiclub-oberlengsfeld.de
SUMMARY:Ski-Langlauf-Wochenende Kaiserwald "Jagdschloß Kladska" (Tschechien)
DESCRIPTION:A U S G E B U C H T  ! ! ! \nDas Ski-Langlaufwochenende 2026 findet von Freitag dem 06. bis Sonntag dem 09. Februar 2026 statt.\nDiesmal geht es in eine ganz neue Lokation nach Tschechien in das Jagdschloß Klaska (Kaiserwald – 10 km von Marienbad) \nEin Jagdschlösschen aus dem letzten Jahrhundert in einem wunderschönen Naturreservat (Taiga-ähnlich) mit Weg um einen See.\nHerrliche Landschaft auf 900 m und kurze Wege zur Loipe oder den Winterwanderwegen. \n\nAnmeldungen und weitere Infos über die E-Mailadresse \ninfo@skiclub-oberlengsfeld.de
URL:https://www.skiclub-oberlengsfeld.de/events/ski-langlauf-wochenende-friedrichroda-tanzbuche-thueringer-wald
LOCATION:Jagdschloß Kladska\, Kladská 9\, Mariánské Lázně\, 35301
CATEGORIES:Friedrichroda,Langlauf
END:VEVENT
END:VCALENDAR