BEGIN:VCALENDAR
VERSION:2.0
PRODID:-//Ski-Club Oberlengsfeld e. V. - ECPv6.15.14//NONSGML v1.0//EN
CALSCALE:GREGORIAN
METHOD:PUBLISH
X-WR-CALNAME:Ski-Club Oberlengsfeld e. V.
X-ORIGINAL-URL:https://www.skiclub-oberlengsfeld.de
X-WR-CALDESC:Veranstaltungen für Ski-Club Oberlengsfeld e. V.
REFRESH-INTERVAL;VALUE=DURATION:PT1H
X-Robots-Tag:noindex
X-PUBLISHED-TTL:PT1H
BEGIN:VTIMEZONE
TZID:Europe/Berlin
BEGIN:DAYLIGHT
TZOFFSETFROM:+0100
TZOFFSETTO:+0200
TZNAME:CEST
DTSTART:20250330T010000
END:DAYLIGHT
BEGIN:STANDARD
TZOFFSETFROM:+0200
TZOFFSETTO:+0100
TZNAME:CET
DTSTART:20251026T010000
END:STANDARD
BEGIN:DAYLIGHT
TZOFFSETFROM:+0100
TZOFFSETTO:+0200
TZNAME:CEST
DTSTART:20260329T010000
END:DAYLIGHT
BEGIN:STANDARD
TZOFFSETFROM:+0200
TZOFFSETTO:+0100
TZNAME:CET
DTSTART:20261025T010000
END:STANDARD
BEGIN:DAYLIGHT
TZOFFSETFROM:+0100
TZOFFSETTO:+0200
TZNAME:CEST
DTSTART:20270328T010000
END:DAYLIGHT
BEGIN:STANDARD
TZOFFSETFROM:+0200
TZOFFSETTO:+0100
TZNAME:CET
DTSTART:20271031T010000
END:STANDARD
END:VTIMEZONE
BEGIN:VEVENT
DTSTART;VALUE=DATE:20260308
DTEND;VALUE=DATE:20260314
DTSTAMP:20260421T164829
CREATED:20250503T220029Z
LAST-MODIFIED:20251026T093710Z
UID:4293-1772928000-1773446399@www.skiclub-oberlengsfeld.de
SUMMARY:Skiwoche Berwang (Tiroler Zugspitzarena)
DESCRIPTION:Familien-Skiwoche vom 08. bis 13.03.2026 in Berwang (Zugspitzarena) im 4* Hotel Thaneller  \nSkibus ab Hotel (stündlich) 5 Minuten Fußweg bis zum nächsten Lift.\n12 Liftanlagen und 34 Pisten km vor Ort und zusätzlich gibt es auch einen Skibus zum Skigebiet Tiroler Zugspitzarena.\nSkilanglauf und Winterwanderwege für Sonnenanbeter im März. Urige Hütten/Sonnenterrassen und schöne Jausenstationen.\n1\,5 km ins Ortszentrum von Berwang. \n– Busfahrt im komfortablen Fernreisebus inkl. Imbiss  Anreise erfolgt aufgrund zu weniger Teilnehmer nicht per Bus (Privat Pkw)\n– HP mit 4 Gänge Abendmenü (3x Auswahl)\n– Besichtigung/Probe hauseigene Brauerei „Stadl Bräu“ (höchstgelegene Hausbrauerei)\n– Zünftiger Musikabend\n– Abendliche Laternenwanderung zur „Kaminstube“ \n\nBei Interesse bitte für weitere Infos unter folgender E-Mailadresse melden: \ninfo@skiclub-oberlengsfeld.de
URL:https://www.skiclub-oberlengsfeld.de/events/familien-skiwoche-grossarl-eigenanreise-pkw
LOCATION:Hotel Thaneller\, Rinnen 38\, Berwang\, 6622\, Austria
CATEGORIES:Skiwoche
END:VEVENT
END:VCALENDAR