BEGIN:VCALENDAR
VERSION:2.0
PRODID:-//Ski-Club Oberlengsfeld e. V. - ECPv6.15.14//NONSGML v1.0//EN
CALSCALE:GREGORIAN
METHOD:PUBLISH
X-WR-CALNAME:Ski-Club Oberlengsfeld e. V.
X-ORIGINAL-URL:https://www.skiclub-oberlengsfeld.de
X-WR-CALDESC:Veranstaltungen für Ski-Club Oberlengsfeld e. V.
REFRESH-INTERVAL;VALUE=DURATION:PT1H
X-Robots-Tag:noindex
X-PUBLISHED-TTL:PT1H
BEGIN:VTIMEZONE
TZID:Europe/Berlin
BEGIN:DAYLIGHT
TZOFFSETFROM:+0100
TZOFFSETTO:+0200
TZNAME:CEST
DTSTART:20240331T010000
END:DAYLIGHT
BEGIN:STANDARD
TZOFFSETFROM:+0200
TZOFFSETTO:+0100
TZNAME:CET
DTSTART:20241027T010000
END:STANDARD
BEGIN:DAYLIGHT
TZOFFSETFROM:+0100
TZOFFSETTO:+0200
TZNAME:CEST
DTSTART:20250330T010000
END:DAYLIGHT
BEGIN:STANDARD
TZOFFSETFROM:+0200
TZOFFSETTO:+0100
TZNAME:CET
DTSTART:20251026T010000
END:STANDARD
BEGIN:DAYLIGHT
TZOFFSETFROM:+0100
TZOFFSETTO:+0200
TZNAME:CEST
DTSTART:20260329T010000
END:DAYLIGHT
BEGIN:STANDARD
TZOFFSETFROM:+0200
TZOFFSETTO:+0100
TZNAME:CET
DTSTART:20261025T010000
END:STANDARD
END:VTIMEZONE
BEGIN:VEVENT
DTSTART;VALUE=DATE:20251211
DTEND;VALUE=DATE:20251215
DTSTAMP:20260421T214136
CREATED:20250502T220041Z
LAST-MODIFIED:20251026T093857Z
UID:4278-1765411200-1765756799@www.skiclub-oberlengsfeld.de
SUMMARY:Ski-Opening in Obertauern
DESCRIPTION:A U S G E B U C H T ! ! ! \nDiesmal wollen wir von Donnerstag 11. bis Sonntag 14. Dezember 2025 die Alpine Skisaison in Obertauern eröffnen (Ski-Opening).  \nDas Hotel Solaria (www.hotel–solaria.at) bietet Skivergnügen direkt vor der Haustür. Halbpension\, Sauna\, Solarium und Dampfbad im großzügigen Freizeitbereich. \nDie Abfahrt wird Do. 11. Dezember 2025 um 6.30 Uhr sein.\nObertauern ist ein Top-Skigebiet mit schönen Skihütten und eines der wenigen schneesicheren Skigebiete im Monat Dezember – Auch der Après-Ski kommt hier nicht zu kurz. \n3 Tage Halbpension im DZ\nBusfahrt inkl. 2x Busfrühstück \n\nAnmeldungen und weitere Infos über die E-Mailadresse \ninfo@skiclub-oberlengsfeld.de
URL:https://www.skiclub-oberlengsfeld.de/events/ski-opening-in-obertauern-5
LOCATION:Hotel Solaria\, Ringstr. 6\, Obertauern\, 5562\, Österreich
CATEGORIES:Ski-Opening
ATTACH;FMTTYPE=image/jpeg:https://www.skiclub-oberlengsfeld.de/wp-content/uploads/galerie_sortiert/bildergalerien/2019/201912_ski_opening/2019_12_obertauern_06-1.jpg
END:VEVENT
END:VCALENDAR